BEGIN:VCALENDAR
VERSION:2.0
PRODID:-//Contratero//ES
CALSCALE:GREGORIAN
METHOD:PUBLISH
BEGIN:VEVENT
UID:5100028756-TRAMITACIÓN DOCUMENTACIÓN OCA@contratero.es
DTSTAMP:20260424T015139Z
DTSTART:20250219T235959
DTEND:20250220T005959
SUMMARY:Cierre: Prestación de servicios para tramitación documenta
DESCRIPTION:Prestación de servicios para tramitación documentación OCA\\n\\nOrganismo: Comité Central de Compras de Navantia S.A.\, S.M.E.\\n\\nVer en Contratero: https://contratero.es/contracts/5100028756-TRAMITACIÓN DOCUMENTACIÓN OCA
URL:https://contratero.es/contracts/5100028756-TRAMITACIÓN DOCUMENTACIÓN OCA
STATUS:CONFIRMED
BEGIN:VALARM
TRIGGER:-P1D
ACTION:DISPLAY
DESCRIPTION:Recordatorio: Prestación de servicios para t
END:VALARM
END:VEVENT
END:VCALENDAR